BEGIN:VCALENDAR
VERSION:2.0
PRODID:-//Young Missio - ECPv6.15.20//NONSGML v1.0//EN
CALSCALE:GREGORIAN
METHOD:PUBLISH
X-ORIGINAL-URL:https://youngmissio.at
X-WR-CALDESC:Veranstaltungen für Young Missio
REFRESH-INTERVAL;VALUE=DURATION:PT1H
X-Robots-Tag:noindex
X-PUBLISHED-TTL:PT1H
BEGIN:VTIMEZONE
TZID:Europe/Berlin
BEGIN:DAYLIGHT
TZOFFSETFROM:+0100
TZOFFSETTO:+0200
TZNAME:CEST
DTSTART:20220327T010000
END:DAYLIGHT
BEGIN:STANDARD
TZOFFSETFROM:+0200
TZOFFSETTO:+0100
TZNAME:CET
DTSTART:20221030T010000
END:STANDARD
BEGIN:DAYLIGHT
TZOFFSETFROM:+0100
TZOFFSETTO:+0200
TZNAME:CEST
DTSTART:20230326T010000
END:DAYLIGHT
BEGIN:STANDARD
TZOFFSETFROM:+0200
TZOFFSETTO:+0100
TZNAME:CET
DTSTART:20231029T010000
END:STANDARD
BEGIN:DAYLIGHT
TZOFFSETFROM:+0100
TZOFFSETTO:+0200
TZNAME:CEST
DTSTART:20240331T010000
END:DAYLIGHT
BEGIN:STANDARD
TZOFFSETFROM:+0200
TZOFFSETTO:+0100
TZNAME:CET
DTSTART:20241027T010000
END:STANDARD
BEGIN:DAYLIGHT
TZOFFSETFROM:+0100
TZOFFSETTO:+0200
TZNAME:CEST
DTSTART:20250330T010000
END:DAYLIGHT
BEGIN:STANDARD
TZOFFSETFROM:+0200
TZOFFSETTO:+0100
TZNAME:CET
DTSTART:20251026T010000
END:STANDARD
BEGIN:DAYLIGHT
TZOFFSETFROM:+0100
TZOFFSETTO:+0200
TZNAME:CEST
DTSTART:20260329T010000
END:DAYLIGHT
BEGIN:STANDARD
TZOFFSETFROM:+0200
TZOFFSETTO:+0100
TZNAME:CET
DTSTART:20261025T010000
END:STANDARD
BEGIN:DAYLIGHT
TZOFFSETFROM:+0100
TZOFFSETTO:+0200
TZNAME:CEST
DTSTART:20270328T010000
END:DAYLIGHT
BEGIN:STANDARD
TZOFFSETFROM:+0200
TZOFFSETTO:+0100
TZNAME:CET
DTSTART:20271031T010000
END:STANDARD
END:VTIMEZONE
BEGIN:VEVENT
DTSTART;TZID=Europe/Berlin:20260304T200000
DTEND;TZID=Europe/Berlin:20260304T220000
DTSTAMP:20260421T113212
CREATED:20260203T095820Z
LAST-MODIFIED:20260203T095820Z
UID:10000402-1772654400-1772661600@youngmissio.at
SUMMARY:Young Mission Praise im Stephansdom
DESCRIPTION:Am Mittwoch\, den 04. März 2026 ab 20:00 Uhr ist es soweit. Der Young Mission Praise findet wieder im Stephansdom statt. \nWir haben die große Sehnsucht\, dass Jugendliche aller Gruppen und Gemeinschaften gemeinsam im Stephansdom beten. \nWir sehen uns danach\, dass viele junge Leute zusammenkommen und wir gemeinsam beten\, Lobpreis machen und Zeugnisse hören. \nAlle Infomationen zum Young Mission Praise findet ihr unter:  Young Mission Praise | Young Missio \nIm Anschluss an de Young Mission Praise wird es eine Agape in der Missio Nationaldirektion Seilerstätte 12\,1010 Wien geben.
URL:https://youngmissio.at/event/young-mission-praise-im-stephansdom-11/
LOCATION:Stephansdom\, Stephansplatz 3\, Wien\, Wien\, 1010\, Österreich
CATEGORIES:Young Mission Praise
ATTACH;FMTTYPE=image/jpeg:https://youngmissio.at/wp-content/uploads/2026/02/ym_Praise_0126f.jpg
END:VEVENT
BEGIN:VEVENT
DTSTART;TZID=Europe/Berlin:20251202T200000
DTEND;TZID=Europe/Berlin:20251202T220000
DTSTAMP:20260421T113212
CREATED:20241125T150634Z
LAST-MODIFIED:20250403T145744Z
UID:10000396-1764705600-1764712800@youngmissio.at
SUMMARY:Young Mission Praise im Stephansdom
DESCRIPTION:Am Dienstag\, den 02. Dezember 2025 ab 20:00 Uhr ist es soweit. Der Young Mission Praise findet wieder im Stephansdom statt. \nWir haben die große Sehnsucht\, dass Jugendliche aller Gruppen und Gemeinschaften gemeinsam im Stephansdom beten. \nWir sehen uns danach\, dass viele junge Leute zusammenkommen und wir gemeinsam beten\, Lobpreis machen und Zeugnisse hören. \nAlle Infomationen zum Young Mission Praise findet ihr unter:  Young Mission Praise | Young Missio \nIm Anschluss an de Young Mission Praise wird es eine Agape in der Missio Nationaldirektion Seilerstätte 12\,1010 Wien geben.
URL:https://youngmissio.at/event/young-mission-praise-im-stephansdom-10/
LOCATION:Stephansdom\, Stephansplatz 3\, Wien\, Wien\, 1010\, Österreich
CATEGORIES:Young Mission Praise
ATTACH;FMTTYPE=image/png:https://youngmissio.at/wp-content/uploads/2025/04/2025.04.02_YMP_Flyer_02_Dezember_Advent_Special.png
END:VEVENT
BEGIN:VEVENT
DTSTART;TZID=Europe/Berlin:20251027T200000
DTEND;TZID=Europe/Berlin:20251027T220000
DTSTAMP:20260421T113212
CREATED:20241125T150543Z
LAST-MODIFIED:20250403T143056Z
UID:10000395-1761595200-1761602400@youngmissio.at
SUMMARY:Young Mission Praise im Stephansdom
DESCRIPTION:Am Montag\, den 27. Oktober 2025 ab 20:00 Uhr ist es soweit. Der Young Mission Praise findet wieder im Stephansdom statt. \nWir haben die große Sehnsucht\, dass Jugendliche aller Gruppen und Gemeinschaften gemeinsam im Stephansdom beten. \nWir sehen uns danach\, dass viele junge Leute zusammenkommen und wir gemeinsam beten\, Lobpreis machen und Zeugnisse hören. \nAlle Infomationen zum Young Mission Praise findet ihr unter:  Young Mission Praise | Young Missio \nIm Anschluss an de Young Mission Praise wird es eine Agape in der Missio Nationaldirektion Seilerstätte 12\,1010 Wien geben.
URL:https://youngmissio.at/event/young-mission-praise-im-stephansdom-9/
LOCATION:Stephansdom\, Stephansplatz 3\, Wien\, Wien\, 1010\, Österreich
CATEGORIES:Young Mission Praise
ATTACH;FMTTYPE=image/png:https://youngmissio.at/wp-content/uploads/2025/04/2025.04.02_YMP_Flyer_27_Oktober.png
END:VEVENT
BEGIN:VEVENT
DTSTART;TZID=Europe/Berlin:20250611T200000
DTEND;TZID=Europe/Berlin:20250611T220000
DTSTAMP:20260421T113212
CREATED:20241125T150435Z
LAST-MODIFIED:20250403T142958Z
UID:10000394-1749672000-1749679200@youngmissio.at
SUMMARY:Young Mission Praise im Stephansdom
DESCRIPTION:Am Mittwoch\, den 11. Juni 2025 ab 20:00 Uhr ist es soweit. Der Young Mission Praise findet wieder im Stephansdom statt. \nWir haben die große Sehnsucht\, dass Jugendliche aller Gruppen und Gemeinschaften gemeinsam im Stephansdom beten. \nWir sehen uns danach\, dass viele junge Leute zusammenkommen und wir gemeinsam beten\, Lobpreis machen und Zeugnisse hören. \nAlle Infomationen zum Young Mission Praise findet ihr unter:  Young Mission Praise | Young Missio \nIm Anschluss an de Young Mission Praise wird es eine Agape in der Missio Nationaldirektion Seilerstätte 12\,1010 Wien geben.
URL:https://youngmissio.at/event/young-mission-praise-im-stephansdom-8/
LOCATION:Stephansdom\, Stephansplatz 3\, Wien\, Wien\, 1010\, Österreich
CATEGORIES:Young Mission Praise
ATTACH;FMTTYPE=image/png:https://youngmissio.at/wp-content/uploads/2025/04/2025.04.02_YMP_Flyer_11.Juni_-1.png
END:VEVENT
BEGIN:VEVENT
DTSTART;TZID=Europe/Berlin:20250408T200000
DTEND;TZID=Europe/Berlin:20250408T220000
DTSTAMP:20260421T113212
CREATED:20241125T150358Z
LAST-MODIFIED:20250328T102553Z
UID:10000393-1744142400-1744149600@youngmissio.at
SUMMARY:Young Mission Praise im Stephansdom
DESCRIPTION:Am Dienstag\, den 08. April 2025 ab 20:00 Uhr ist es soweit. Der Young Mission Praise findet wieder im Stephansdom statt. \nWir haben die große Sehnsucht\, dass Jugendliche aller Gruppen und Gemeinschaften gemeinsam im Stephansdom beten. \nWir sehen uns danach\, dass viele junge Leute zusammenkommen und wir gemeinsam beten\, Lobpreis machen und Zeugnisse hören. \nAlle Infomationen zum Young Mission Praise findet ihr unter:  Young Mission Praise | Young Missio \nIm Anschluss an de Young Mission Praise wird es eine Agape in der Missio Nationaldirektion Seilerstätte 12\,1010 Wien geben.
URL:https://youngmissio.at/event/young-mission-praise-im-stephansdom-7/
LOCATION:Stephansdom\, Stephansplatz 3\, Wien\, Wien\, 1010\, Österreich
CATEGORIES:Young Mission Praise
ATTACH;FMTTYPE=image/png:https://youngmissio.at/wp-content/uploads/2024/11/08_April_2025_YMP_Flyer_white-1.png
END:VEVENT
BEGIN:VEVENT
DTSTART;TZID=Europe/Berlin:20250210T200000
DTEND;TZID=Europe/Berlin:20250210T220000
DTSTAMP:20260421T113212
CREATED:20241125T150302Z
LAST-MODIFIED:20241125T150302Z
UID:10000392-1739217600-1739224800@youngmissio.at
SUMMARY:Young Mission Praise im Stephansdom
DESCRIPTION:Am Montag\, den 10. Februar 2025 ab 20:00 Uhr ist es soweit. Der Young Mission Praise findet wieder im Stephansdom statt. \nWir haben die große Sehnsucht\, dass Jugendliche aller Gruppen und Gemeinschaften gemeinsam im Stephansdom beten. \nWir sehen uns danach\, dass viele junge Leute zusammenkommen und wir gemeinsam beten\, Lobpreis machen und Zeugnisse hören. \nAlle Infomationen zum Young Mission Praise findet ihr unter:  Young Mission Praise | Young Missio \nIm Anschluss an de Young Mission Praise wird es eine Agape in der Missio Nationaldirektion Seilerstätte 12\,1010 Wien geben.
URL:https://youngmissio.at/event/young-mission-praise-im-stephansdom-6/
LOCATION:Stephansdom\, Stephansplatz 3\, Wien\, Wien\, 1010\, Österreich
CATEGORIES:Young Mission Praise
ATTACH;FMTTYPE=image/png:https://youngmissio.at/wp-content/uploads/2024/02/Young-Missio-Post3.png
END:VEVENT
BEGIN:VEVENT
DTSTART;TZID=Europe/Berlin:20241212T200000
DTEND;TZID=Europe/Berlin:20241212T220000
DTSTAMP:20260421T113212
CREATED:20231120T150723Z
LAST-MODIFIED:20241126T071747Z
UID:10000358-1734033600-1734040800@youngmissio.at
SUMMARY:Young Mission Praise im Stephansdom
DESCRIPTION:Am Donnerstag\, dem 12. Dezember 2024 ab 20:00 Uhr ist es soweit. Der Young Mission Praise findet wieder im Stephansdom statt. \nWir haben die große Sehnsucht\, dass Jugendliche aller Gruppen und Gemeinschaften gemeinsam im Stephansdom beten. Dieses Mal wollen wir uns ganz besonders auf das bevorstehende Weihnachtsfest vorbereiten mit unserem besonderen Advent-Special! \nDer Young Mission Praise beginnt um 20:15 Uhr. Pater Maximilian Ewers\,von Oratorium des hl. Philipp Neri in Wien hält einen geistlichen Impuls und führt durch den Abend. Ein persönliches Zeugnis gibt Anne Fleck\, Verantwortliche für die Social Media Mission von Missio Österreich und Autorin des Buchs „Zartheit und Krawall“. \nWir freuen uns darauf\, dass viele junge Leute zusammenkommen und wir gemeinsam beten\, Lobpreis machen und Zeugnisse hören. \nIm Anschluss an den Young Mission Praise wird es eine Agape mit Snacks und dem ein oder anderen Punsch in der Missio Nationaldirektion in der Seilerstätte 12\,1010 Wien geben.\nHerzliche Einladung! \n  \n\n\n\n			\n				Hier gehts zum aktuellen Plakat
URL:https://youngmissio.at/event/young-mission-praise-im-stephansdom-5/
LOCATION:Stephansdom\, Stephansplatz 3\, Wien\, Wien\, 1010\, Österreich
CATEGORIES:Young Mission Praise
ATTACH;FMTTYPE=image/png:https://youngmissio.at/wp-content/uploads/2024/02/Young-Missio-Post3.png
END:VEVENT
BEGIN:VEVENT
DTSTART;TZID=Europe/Berlin:20241113T201500
DTEND;TZID=Europe/Berlin:20241113T223000
DTSTAMP:20260421T113212
CREATED:20231120T150449Z
LAST-MODIFIED:20241108T132440Z
UID:10000357-1731528900-1731537000@youngmissio.at
SUMMARY:Young Mission Praise im Stephansdom
DESCRIPTION:Am Mittwoch\, den 13. November 2024 ab 20:00 Uhr ist es soweit. Der Young Mission Praise findet wieder im Stephansdom statt. \nWir haben die große Sehnsucht\, dass Jugendliche aller Gruppen und Gemeinschaften gemeinsam im Stephansdom beten. \nDer Young Mission Praise beginnt um 20:15 Uhr. Bruder Benedict Charbel\, bekannt unter Jugendlichen und auf Instagram als „pro.bench.csj“\, hält einen geistlichen Impuls und führt durch den Abend. Ein persönliches Zeugnis gibt Otto Neubauer\, Mitglied der Gemeinschaft Emmanuel und Leiter der Akademie für Dialog und Evangelisierung in Wien. \nWir freuen uns darauf\, dass viele junge Leute zusammenkommen und wir gemeinsam beten\, Lobpreis machen und Zeugnisse hören. \nIm Anschluss an den Young Mission Praise wird es eine Agape im Innenhof der Missio Nationaldirektion Seilerstätte 12\,1010 Wien geben. Herzliche Einladung! \n			\n				Hier Klicken und das aktuelle Plakat herunterladen
URL:https://youngmissio.at/event/young-mission-praise-im-stephansdom-4/
LOCATION:Stephansdom\, Stephansplatz 3\, Wien\, Wien\, 1010\, Österreich
CATEGORIES:Young Mission Praise
ATTACH;FMTTYPE=image/png:https://youngmissio.at/wp-content/uploads/2024/02/Young-Missio-Post3.png
END:VEVENT
BEGIN:VEVENT
DTSTART;TZID=Europe/Berlin:20240416T201500
DTEND;TZID=Europe/Berlin:20240416T223000
DTSTAMP:20260421T113212
CREATED:20231120T150154Z
LAST-MODIFIED:20231120T150154Z
UID:10000356-1713298500-1713306600@youngmissio.at
SUMMARY:Young Mission Praise im Stephansdom
DESCRIPTION:Am Dienstag\, den 16. April 2024 ab 20:15 Uhr ist es soweit. Der Young Mission Praise im Stephansdom findet zum ersten Mal statt. \nWir haben die große Sehnsucht\, dass Jugendliche aller Gruppen und Gemeinschaften gemeinsam im Stephansdom beten. \nWir sehen uns danach\, dass viele junge Leute zusammenkommen und wir gemeinsam beten\, Lobpreis machen und Zeugnisse hören. \nAlle Infomationen zum Young Mission Praise findet ihr unter:  Young Mission Praise | Young Missio \nIm Anschluss an de Young Mission Praise wird es eine Agape im Innenhof der Missio Nationaldirektion Seilerstätte 12\,1010 Wien geben.
URL:https://youngmissio.at/event/young-mission-praise-im-stephansdom-3/
LOCATION:Stephansdom\, Stephansplatz 3\, Wien\, Wien\, 1010\, Österreich
CATEGORIES:Young Mission Praise
ATTACH;FMTTYPE=image/png:https://youngmissio.at/wp-content/uploads/2024/02/Young-Missio-Post3.png
END:VEVENT
BEGIN:VEVENT
DTSTART;TZID=Europe/Berlin:20240219T201500
DTEND;TZID=Europe/Berlin:20240219T223000
DTSTAMP:20260421T113212
CREATED:20231120T145901Z
LAST-MODIFIED:20231120T145901Z
UID:10000355-1708373700-1708381800@youngmissio.at
SUMMARY:Young Mission Praise im Stephansdom
DESCRIPTION:Am Montag\, den 19. Februar 2024 ab 20:15 Uhr ist es soweit. Der Young Mission Praise im Stephansdom findet zum ersten Mal statt. \nWir haben die große Sehnsucht\, dass Jugendliche aller Gruppen und Gemeinschaften gemeinsam im Stephansdom beten. \nWir sehen uns danach\, dass viele junge Leute zusammenkommen und wir gemeinsam beten\, Lobpreis machen und Zeugnisse hören. \nAlle Infomationen zum Young Mission Praise findet ihr unter:  Young Mission Praise | Young Missio \nIm Anschluss an de Young Mission Praise wird es eine Agape im Innenhof der Missio Nationaldirektion Seilerstätte 12\,1010 Wien geben.
URL:https://youngmissio.at/event/young-mission-praise-im-stephansdom-2/
LOCATION:Stephansdom\, Stephansplatz 3\, Wien\, Wien\, 1010\, Österreich
CATEGORIES:Young Mission Praise
ATTACH;FMTTYPE=image/png:https://youngmissio.at/wp-content/uploads/2024/02/Young-Missio-Post3.png
END:VEVENT
BEGIN:VEVENT
DTSTART;TZID=Europe/Berlin:20231214T201500
DTEND;TZID=Europe/Berlin:20231214T223000
DTSTAMP:20260421T113212
CREATED:20231025T180423Z
LAST-MODIFIED:20231025T180423Z
UID:10000342-1702584900-1702593000@youngmissio.at
SUMMARY:Young Mission Praise im Stephansdom
DESCRIPTION:Am 14.12.2023 ab 20:15 Uhr ist es soweit. Der Young Mission Praise im Stephansdom findet zum ersten Mal statt. \nWir haben die große Sehnsucht\, dass Jugendliche aller Gruppen und Gemeinschaften gemeinsam im Stephansdom beten. \nWir sehen uns danach\, dass viele junge Leute zusammenkommen und wir gemeinsam beten\, Lobpreis machen und Zeugnisse hören. \nAlle Infomationen zum Young Mission Praise findet ihr unter:  Young Mission Praise | Young Missio \nIm Anschluss an de Young Mission Praise wird es eine Agape im Innenhof der Missio Nationaldirektion Seilerstätte 12\,1010 Wien geben.
URL:https://youngmissio.at/event/young-mission-praise-im-stephansdom/
LOCATION:Stephansdom\, Stephansplatz 3\, Wien\, Wien\, 1010\, Österreich
CATEGORIES:Young Mission Praise
ATTACH;FMTTYPE=image/png:https://youngmissio.at/wp-content/uploads/2023/10/Young-Mission-Praise_Screenshot.png
END:VEVENT
BEGIN:VEVENT
DTSTART;TZID=Europe/Berlin:20231214T201500
DTEND;TZID=Europe/Berlin:20231214T223000
DTSTAMP:20260421T113212
CREATED:20230915T102334Z
LAST-MODIFIED:20230915T102334Z
UID:10000331-1702584900-1702593000@youngmissio.at
SUMMARY:Radio Maria LIVE Übertragung: Young Mission Praise im Stephansdom
DESCRIPTION:  \n 
URL:https://youngmissio.at/event/wg-pre-events-young-mission-praise/
LOCATION:Stephansdom\, Stephansplatz 3\, Wien\, Wien\, 1010\, Österreich
CATEGORIES:Young Mission Praise
END:VEVENT
END:VCALENDAR