BEGIN:VCALENDAR
VERSION:2.0
PRODID:-//Young Missio - ECPv6.15.20//NONSGML v1.0//EN
CALSCALE:GREGORIAN
METHOD:PUBLISH
X-ORIGINAL-URL:https://youngmissio.at
X-WR-CALDESC:Veranstaltungen für Young Missio
REFRESH-INTERVAL;VALUE=DURATION:PT1H
X-Robots-Tag:noindex
X-PUBLISHED-TTL:PT1H
BEGIN:VTIMEZONE
TZID:Europe/Berlin
BEGIN:DAYLIGHT
TZOFFSETFROM:+0100
TZOFFSETTO:+0200
TZNAME:CEST
DTSTART:20220327T010000
END:DAYLIGHT
BEGIN:STANDARD
TZOFFSETFROM:+0200
TZOFFSETTO:+0100
TZNAME:CET
DTSTART:20221030T010000
END:STANDARD
BEGIN:DAYLIGHT
TZOFFSETFROM:+0100
TZOFFSETTO:+0200
TZNAME:CEST
DTSTART:20230326T010000
END:DAYLIGHT
BEGIN:STANDARD
TZOFFSETFROM:+0200
TZOFFSETTO:+0100
TZNAME:CET
DTSTART:20231029T010000
END:STANDARD
BEGIN:DAYLIGHT
TZOFFSETFROM:+0100
TZOFFSETTO:+0200
TZNAME:CEST
DTSTART:20240331T010000
END:DAYLIGHT
BEGIN:STANDARD
TZOFFSETFROM:+0200
TZOFFSETTO:+0100
TZNAME:CET
DTSTART:20241027T010000
END:STANDARD
END:VTIMEZONE
BEGIN:VEVENT
DTSTART;TZID=Europe/Berlin:20231024T150000
DTEND;TZID=Europe/Berlin:20231024T180000
DTSTAMP:20260421T113642
CREATED:20231006T061029Z
LAST-MODIFIED:20231006T061029Z
UID:10000350-1698159600-1698170400@youngmissio.at
SUMMARY:Lehrerfortbildung - in Salzburg
DESCRIPTION:Darjeeling-Tee und die Slums von Kalkutta – die beiden Begriffe liegen in unserer Vorstellung Welten auseinander\, doch bei genauerem Blick verbindet sie vor Allem eins: Armut und Ausbeutung in Indien. Die Päpstlichen Missionswerke in Österreich stellen ihre Partnerinnen und Partner vor Ort vor. \nAlle Infos zu den Lehrerfortbildungen Anpacken statt Teetrinken. Hilfe und Empowerment für die Ärmsten der Armen in Indien. Mit Tabea Planz und Matthias Linus Möller von Young Missio. \n  \n[fusion_button link=“https://www.missio.at/youngmissio/lehrerfortbildung/“ title=““ target=“_blank“ link_attributes=““ alignment_medium=““ alignment_small=““ alignment=““ modal=““ hide_on_mobile=“small-visibility\,medium-visibility\,large-visibility“ sticky_display=“normal\,sticky“ class=““ id=““ color=“default“ button_gradient_top_color_hover=““ hue=““ saturation=““ lightness=““ alpha=““ button_gradient_top_color=““ button_gradient_bottom_color_hover=““ button_gradient_bottom_color=““ gradient_start_position=““ gradient_end_position=““ gradient_type=““ radial_direction=““ linear_angle=“180″ accent_hover_color=““ accent_color=““ type=““ bevel_color=““ bevel_color_hover=““ border_top=““ border_right=““ border_bottom=““ border_left=““ border_radius_top_left=““ border_radius_top_right=““ border_radius_bottom_right=““ border_radius_bottom_left=““ border_hover_color=““ border_color=““ size=““ padding_top=““ padding_right=““ padding_bottom=““ padding_left=““ fusion_font_family_button_font=““ fusion_font_variant_button_font=““ font_size=““ line_height=““ letter_spacing=““ text_transform=““ stretch=“default“ margin_top=““ margin_right=““ margin_bottom=““ margin_left=““ icon=“fa-bullhorn fas“ icon_position=“left“ icon_divider=“no“ hover_transition=“none“ animation_type=““ animation_direction=“left“ animation_color=““ animation_speed=“0.3″ animation_delay=“0″ animation_offset=““]Alle Infos zu den Lehrerfortbildungen [/fusion_button] \n 
URL:https://youngmissio.at/event/lehrerfortbildung-in-salzburg/
LOCATION:Salzburg
CATEGORIES:KPH
ATTACH;FMTTYPE=image/jpeg:https://youngmissio.at/wp-content/uploads/2023/09/Indien_Tee_YM-Website.jpg
END:VEVENT
END:VCALENDAR