BEGIN:VCALENDAR
VERSION:2.0
PRODID:-//Young Missio - ECPv6.15.20//NONSGML v1.0//EN
CALSCALE:GREGORIAN
METHOD:PUBLISH
X-ORIGINAL-URL:https://youngmissio.at
X-WR-CALDESC:Veranstaltungen für Young Missio
REFRESH-INTERVAL;VALUE=DURATION:PT1H
X-Robots-Tag:noindex
X-PUBLISHED-TTL:PT1H
BEGIN:VTIMEZONE
TZID:Europe/Berlin
BEGIN:DAYLIGHT
TZOFFSETFROM:+0100
TZOFFSETTO:+0200
TZNAME:CEST
DTSTART:20250330T010000
END:DAYLIGHT
BEGIN:STANDARD
TZOFFSETFROM:+0200
TZOFFSETTO:+0100
TZNAME:CET
DTSTART:20251026T010000
END:STANDARD
BEGIN:DAYLIGHT
TZOFFSETFROM:+0100
TZOFFSETTO:+0200
TZNAME:CEST
DTSTART:20260329T010000
END:DAYLIGHT
BEGIN:STANDARD
TZOFFSETFROM:+0200
TZOFFSETTO:+0100
TZNAME:CET
DTSTART:20261025T010000
END:STANDARD
BEGIN:DAYLIGHT
TZOFFSETFROM:+0100
TZOFFSETTO:+0200
TZNAME:CEST
DTSTART:20270328T010000
END:DAYLIGHT
BEGIN:STANDARD
TZOFFSETFROM:+0200
TZOFFSETTO:+0100
TZNAME:CET
DTSTART:20271031T010000
END:STANDARD
END:VTIMEZONE
BEGIN:VEVENT
DTSTART;TZID=Europe/Berlin:20260817T053000
DTEND;TZID=Europe/Berlin:20260822T190000
DTSTAMP:20260421T101454
CREATED:20260306T090021Z
LAST-MODIFIED:20260410T083932Z
UID:10000406-1786944600-1787425200@youngmissio.at
SUMMARY:Jugendwallfahrt Medjugorje 2026 Missio X Heiligenkreuz
DESCRIPTION:Wir fahren zur Muttergottes nach Medjugorje! Komm mit zur Jugendwallfahrt 2026. Mit dabei sind Pater Karl Wallner und Pater Wilhelm Mauser 🙂 \nAnmeldung unter folgendem Link (begrenzte Plätze!):\nHier Anmelden!\nHard Facts:\nKosten: ca € 350\,-\nAbreise mit dem Bus aus Wien 1010 und Stift Heiligenkreuz  am 17.08.2026\nAuf dem Weg werden wir eine Messe feiern und immer wieder Pausen machen um zu Essen und Gemeinschaft zu erleben (nimm Dir einen Reiseproviant für die Fahrt). \n\nUnterkunft mit Halbpension in der Pension Maja. \n\nProgramm in Medjugorje: tägliche Messe und Rosenkranz\, Inputs\, Freizeit\, Ausflug zum Schwimmen\, Kreuzweg\, Workshops und vieles mehr.\nDa nur eine Halbpension im Preis inkludiert ist\, vergiss nicht Taschengeld mitzubringen für die anderen Mahlzeiten und Souvenirs \n \nSolltest Du irgendwelche Fragen haben\, kannst Du Dich jederzeit an uns per E-Mail melden young@missio.at \n 
URL:https://youngmissio.at/event/young-missio-medjugorje-wallfahrt-2026/
LOCATION:Medjugorje
ATTACH;FMTTYPE=image/jpeg:https://youngmissio.at/wp-content/uploads/2026/03/Medju-Wallfahrt.jpg
ORGANIZER;CN="Young Missio mit Pater Karl Wallner":MAILTO:young@missio.at
END:VEVENT
END:VCALENDAR